BEGIN:VCALENDAR
VERSION:2.0
PRODID:-//Liebliches Leben - ECPv6.15.17.1//NONSGML v1.0//EN
CALSCALE:GREGORIAN
METHOD:PUBLISH
X-ORIGINAL-URL:https://neu.lieblichesleben.de
X-WR-CALDESC:Veranstaltungen für Liebliches Leben
REFRESH-INTERVAL;VALUE=DURATION:PT1H
X-Robots-Tag:noindex
X-PUBLISHED-TTL:PT1H
BEGIN:VTIMEZONE
TZID:Europe/Berlin
BEGIN:DAYLIGHT
TZOFFSETFROM:+0100
TZOFFSETTO:+0200
TZNAME:CEST
DTSTART:20250330T010000
END:DAYLIGHT
BEGIN:STANDARD
TZOFFSETFROM:+0200
TZOFFSETTO:+0100
TZNAME:CET
DTSTART:20251026T010000
END:STANDARD
BEGIN:DAYLIGHT
TZOFFSETFROM:+0100
TZOFFSETTO:+0200
TZNAME:CEST
DTSTART:20260329T010000
END:DAYLIGHT
BEGIN:STANDARD
TZOFFSETFROM:+0200
TZOFFSETTO:+0100
TZNAME:CET
DTSTART:20261025T010000
END:STANDARD
BEGIN:DAYLIGHT
TZOFFSETFROM:+0100
TZOFFSETTO:+0200
TZNAME:CEST
DTSTART:20270328T010000
END:DAYLIGHT
BEGIN:STANDARD
TZOFFSETFROM:+0200
TZOFFSETTO:+0100
TZNAME:CET
DTSTART:20271031T010000
END:STANDARD
END:VTIMEZONE
BEGIN:VEVENT
DTSTART;TZID=Europe/Berlin:20260320T190000
DTEND;TZID=Europe/Berlin:20260320T210000
DTSTAMP:20260420T183144
CREATED:20260306T132807Z
LAST-MODIFIED:20260312T131923Z
UID:1609-1774033200-1774040400@neu.lieblichesleben.de
SUMMARY:Retreat zum Jahreskreisfest Ostara
DESCRIPTION:Jahreskreisfest Ostara\n\n\n\n\nDu bist herzlich Willkommen beim Jahreskreisfest Ostara. \nOstara am 20. März 2026 schenkt dir mit Meditation\, Klangreise und Rituale zur Frühjahrs-Tagundnachtgleiche Klarheit\, innere Balance und einen kraftvollen Neubeginn für deinen persönlichen Frühling. \nWas dich an diesem Abend erwartet \n Meditation – Ankommen bei dir selbst\nDu wirst sanft geführt in eine tiefe\, bewusste Verbindung mit deinem Inneren. Ein Raum entsteht\, in dem du durchatmen\, loslassen und dich neu ausrichten kannst. Du erinnerst dich an deine eigene Kraft und an das\, was in dir erblühen möchte. \n Klangreise – Schwingung für dein Erwachen\nDie Klänge tragen dich. Sanfte Frequenzen\, harmonische Schwingungen und berührende Töne öffnen dein Herzfeld und laden dich ein\, Altes abzustreifen. Dein gesamtes System darf sich harmonisieren und neu ausbalancieren – wie die Natur im Gleichgewicht von Tag und Nacht. \n Ritual zur Frühjahrsenergie\nGemeinsam ehren wir den Neubeginn in Ritualen. Du setzt eine klare\, kraftvolle Intention für die kommende Zeit. Was darf wachsen? Was darf erblühen? Was darf sich zeigen? \n Raum für Reflexion & innere Klarheit\nOstara schenkt dir die Möglichkeit\, bewusst innezuhalten und deinen eigenen inneren Frühling einzuladen. \nDieses Event ist für dich\, wenn du\n dich neu ausrichten möchtest\n deine Herzensenergie stärken willst\n Klarheit für deinen nächsten Schritt suchst\n in die Entspannung und Stressabbau für deinen Alltag wünscht \nOstara erinnert dich daran\, dass Gleichgewicht in dir beginnt.\nDass nach jeder Phase der Sammlung ein Aufblühen folgt.\nDass Licht und Dunkelheit gemeinsam Wachstum erschaffen. \nWir freuen auf darauf\, diesen besonderen Übergang mit dir zu feiern.  \nWir freuen uns auf dich! \nAlles Liebe\, \nMeike\, May mit Galina \nWaldschlösschen | Turmberg\nWertschätzung je 33€ Bring a friend 2×25€ \nInfos & Anmeldung: PM oder\nmay@lieblichesleben.de \n\n\n\n\n\nFür Veranstaltung registrieren\n\n\n\nDatum und Uhrzeit\n20-03-2026 @ 19:00-21:00\n\n\nOrt\nWaldschlösschen\, Turmberg
URL:https://neu.lieblichesleben.de/event/jahreskreisfest-ostara/
CATEGORIES:Jahreskreisfest,Klangreise,Meditation
ATTACH;FMTTYPE=image/png:https://neu.lieblichesleben.de/wp-content/uploads/2026/03/LL_Events_maerz_april-26-3.png
END:VEVENT
END:VCALENDAR